Workbook

Sheet 利用申請書
V2: 様式第１号
A3: ツアー出発日の２週間前までに必ずご提出ください
B4: 公益社団法人千葉市観光協会 インバウンド団体旅行客向けバスツアー支援事業 | N4: 利用申請書
A5: 記入日 年 月 日
B6: １．申請者に関する情報
B7: 会社名 | N7: 旅行業法の登録番号
B8: 所在地 | C8: 〒
B9: 担当部署 | N9: 担当者氏名
B10: 電話番号 | N10: FAX
B11: E-mail | N11: URL
B12: ２．現地（海外）旅行代理店に関する情報
B13: 会社名
B14: ３． ツアー内容に関する情報 （※同一内容で出発日が複数ある場合、申請No.2以降にご記入ください。）
B15: 国 名
B16: ツアー名
B17: 申請 No.1 | C17: 予定人数 | E17: 参加者 | L17: 名 ※添乗員・乗務員を除く | R17: バス台数 | W17: 台
C18: 出発日 | I18: 年 | M18: 月 | Q18: 日 | R18: 旅行日数 | W18: 日間
C19: 宿泊施設名（千葉市内） | H19: チェックイン日 | L19: チェックアウト日 | P19: 有料観光施設名 | U19: 利用日
I20: 月 | K20: 日 | M20: 月 | O20: 日 | V20: 月 | X20: 日
B21: 申請 No.2 | C21: 予定人数 | E21: 参加者 | L21: 名 ※添乗員・乗務員を除く | R21: バス台数 | W21: 台
C22: 出発日 | I22: 年 | M22: 月 | Q22: 日 | R22: 旅行日数 | W22: 日間
C23: 宿泊施設名（千葉市内） | H23: チェックイン日 | L23: チェックアウト日 | P23: 有料観光施設名 | U23: 利用日
I24: 月 | K24: 日 | M24: 月 | O24: 日 | V24: 月 | X24: 日
B25: 申請 No.3 | C25: 予定人数 | E25: 参加者 | L25: 名 ※添乗員・乗務員を除く | R25: バス台数 | W25: 台
C26: 出発日 | I26: 年 | M26: 月 | Q26: 日 | R26: 旅行日数 | W26: 日間
C27: 宿泊施設名（千葉市内） | H27: チェックイン日 | L27: チェックアウト日 | P27: 有料観光施設名 | U27: 利用日
I28: 月 | K28: 日 | M28: 月 | O28: 日 | V28: 月 | X28: 日
B30: 旅行形態 | M30: ツアー確定度
B31: 選択 | D31: その他 | F31: （ | L31: ） | M31: 選択 | P31: 確定時期（見込みの場合） | U31: 月 | W31: 日頃
B33: 《特記事項》
B36: 〇千葉市を宿泊先に選んだ理由
B37: 目的地へのアクセスが良いから | L37: 空港に近いから | R37: 支援金があったから
B38: その他（自由記述： | X38: ）
B40: 〇本ツアーにおける主な目的地（もっとも重視している目的地）
B41: 【自由記述】 ※回答例 TDR／京都 など
B45: 《必要提出書類》誓約書・行程表 | K45: ◆募集要項の内容に同意し、上記のとおり申し込みます。
Q47: 令和 年 | U47: 月 | W47: 日
B48: 【公益社団法人千葉市観光協会インバウンド団体旅行客向けバスツアー支援事業】 承認書
B49: =C7 -> 0 | J49: 御中
B50: 上記の申請につきまして、承認いたします。別添のご案内をご確認のうえ、ツアーの催行をお願いいたします。
H51: 受付NO | M51: ー
B54: 《利用申請書送り先・お問い合わせ》 事務局：公益社団法人千葉市観光協会 E-Mail：kankou-g@chibacity-ta.or.jp TEL：043-239-7738
B56: 【注意事項】実施要領（抜粋）
B57: 第17条 天災その他助成事業を継続しがたいやむを得ない事由がある場合、本事業による支援を中止又は停止することがある。
B58: 支援を中止又は停止した場合、登録事業者に対して、取消料等のいかなる費用も補償しない。

Sheet 実績報告書
V1: 様式第３号
C2: 入力後、形式を変えずにExcelエクセルデータのままお送りください。
A3: ツアー終了後１か月前以内に必ずご提出ください。
B4: 公益社団法人千葉市観光協会 インバウンド団体旅行客向けバスツアー支援事業 | N4: 実施報告書
Q5: 受付番号 | V5: ―
B7: １．申請者に関する情報 | P7: 記入日 | T7: 年 | V7: 月 | X7: 日
B8: 会社名 | C8: =利用申請書!C7&"" | N8: 旅行業法の登録番号 | Q8: =利用申請書!Q7&""
B9: 担当部署 | C9: =利用申請書!C9&"" | N9: 担当者氏名 | Q9: =利用申請書!Q9&""
B10: ２．催行したツアーに関する情報 ※日程が変更になった場合は実施した日付を上書きしてください。
B11: 国名 | C11: =利用申請書!C15&""
B12: ツアー名 | C12: =利用申請書!C16&""
B13: 実績報告 No.1 | C13: 最終人数 | E13: 参加者 | I13: =利用申請書!I17&"" | L13: 名 ※添乗員・乗務員を除く | R13: バス台数 | U13: =利用申請書!U17&"" | W13: 台
C14: 出発日 | E14: =利用申請書!E18&"" | I14: 年 | K14: =利用申請書!K18&"" | M14: 月 | O14: =利用申請書!O18&"" | Q14: 日 | R14: 旅行日数 | U14: =利用申請書!U18&"" | W14: 日間
C15: 宿泊施設名（千葉市内） | H15: チェックイン日 | L15: チェックアウト日 | P15: 有料観光施設名 | U15: 利用日
C16: =利用申請書!C20&"" | H16: =利用申請書!H20&"" | I16: 月 | J16: =利用申請書!J20&"" | K16: 日 | L16: =利用申請書!L20&"" | M16: 月 | N16: =利用申請書!N20&"" | O16: 日 | P16: =利用申請書!P20&"" | U16: =利用申請書!U20&"" | V16: 月 | W16: =利用申請書!W20&"" | X16: 日
B17: 実績報告 No.2 | C17: 最終人数 | E17: 参加者 | I17: =利用申請書!I21&"" | L17: 名 ※添乗員・乗務員を除く | R17: バス台数 | U17: =利用申請書!U21&"" | W17: 台
C18: 出発日 | E18: =利用申請書!E22&"" | I18: 年 | K18: =利用申請書!K22&"" | M18: 月 | O18: =利用申請書!O22&"" | Q18: 日 | R18: 旅行日数 | U18: =利用申請書!U22&"" | W18: 日間
C19: 宿泊施設名（千葉市内） | H19: チェックイン日 | L19: チェックアウト日 | P19: 有料観光施設名 | U19: 利用日
C20: =利用申請書!C24&"" | H20: =利用申請書!H24&"" | I20: 月 | J20: =利用申請書!J24&"" | K20: 日 | L20: =利用申請書!L24&"" | M20: 月 | N20: =利用申請書!N24&"" | O20: 日 | P20: =利用申請書!P24&"" | U20: =利用申請書!U24&"" | V20: 月 | W20: =利用申請書!W24&"" | X20: 日
B21: 実績報告 No.3 | C21: 最終人数 | E21: 参加者 | I21: =利用申請書!I25&"" | L21: 名 ※添乗員・乗務員を除く | R21: バス台数 | U21: =利用申請書!U25&"" | W21: 台
C22: 出発日 | E22: =利用申請書!E26&"" | I22: 年 | K22: =利用申請書!K26&"" | M22: 月 | O22: =利用申請書!O26&"" | Q22: 日 | R22: 旅行日数 | U22: =利用申請書!U26&"" | W22: 日間
C23: 宿泊施設名（千葉市内） | H23: チェックイン日 | L23: チェックアウト日 | P23: 有料観光施設名 | U23: 利用日
C24: =利用申請書!C28&"" | H24: =利用申請書!H28&"" | I24: 月 | J24: =利用申請書!J28&"" | K24: 日 | L24: =利用申請書!L28&"" | M24: 月 | N24: =利用申請書!N28&"" | O24: 日 | P24: =利用申請書!P28&"" | U24: =利用申請書!U28&"" | V24: 月 | W24: =利用申請書!W28&"" | X24: 日
B26: ３．特記事項
B28: ４．提出書類 | G28: ※該当するものに必ずチェック☑を付けてください。
B29: ① 実施報告書（本書面）
B30: ② 宿泊証明書（又は領収書等）の写し ③ 有料施設利用証明書（又は領収書等）の写し
B31: ④ 行程表（行程が変更になった場合のみ） | K31: 添付あり | O31: 添付なし（変更なし）
B32: ⑤ 請求書
B34: ５．ご意見・ご感想など （皆様からのご意見等を今後の事業改善に活用させていただきたい所存でおります。）
B37: 《送り先・お問い合わせ》 事務局：公益社団法人千葉市観光協会 E-Mail：kankou-g@chibacity-ta.or.jp TEL：043-239-7738
