Workbook

Sheet 様式
A1: （様式９）
E2: 年 月 日
A3: 見積書
A5: 千葉市民花火大会実行委員会会長 様
E7: 所在地
E8: 名称
E9: 代表者職・氏名
E10: 連絡先
A11: 業務名：第４8回千葉市民花火大会会場設営・警備等業務委託
A12: No. | B12: 名称 | E12: 単価 | F12: 数量 | G12: 単位 | H12: 金額 | I12: 備考
A13: 1 | B13: 管理業務 | E13: - | F13: - | G13: - | H13: -
B14: (1) | C14: 作業計画書作成業務 | F14: 1 | G14: 式 | H14: =E14*F14 -> 0
B15: (2) | C15: 実施報告書（成果物）の作成・提出 | F15: 1 | G15: 式 | H15: =E15*F15 -> 0
B16: (3) | C16: 各種申請業務 | F16: 1 | G16: 式 | H16: =E16*F16 -> 0
B17: (4) | C17: 市民招待席及び無料招待席の事前受付・抽選・当選通知発送業務 | F17: 1 | G17: 式 | H17: =E17*F17 -> 0
B18: (5) | C18: 売店区画等の募集及び管理・運営業務 | F18: 1 | G18: 式 | H18: =E18*F18 -> 0
B19: (6) | C19: 関係者打合せ | F19: 1 | G19: 式 | H19: =E19*F19 -> 0
B20: 小計① | H20: =SUM(H14:H19) -> 0
A21: 2 | B21: 会場設営関係業務 | E21: - | F21: - | G21: - | H21: -
B22: (1) | C22: 会場等設営計画書作成業務 | F22: 1 | G22: 式 | H22: =E22*F22 -> 0
B23: (2) | C23: 看板表示製作及び設置業務 | F23: 1 | G23: 式 | H23: =E23*F23 -> 0 | I23: デザイン・設置等に要する経費
B24: (3) | C24: 設営・運営・撤去業務 | E24: - | F24: 1 | G24: 式 | H24: =SUM(H25:H27) -> 0
C25: ア | D25: 設営スタッフ | G25: 時間 | H25: =E25*F25 -> 0
C26: イ | D26: 資材運搬費 | F26: 1 | G26: 式 | H26: =E26*F26 -> 0
C27: ウ | D27: その他経費 | F27: 1 | G27: 式 | H27: =E27*F27 -> 0
B28: (4) | C28: 物品調達業務 | E28: - | F28: 1 | G28: 式 | H28: =SUM(H29:H30) -> 0 | I28: 物品ごとの数量及び単価を別紙に明記すること。
C29: ア | D29: 物品ごとの調達費用 | E29: =別紙１!G103 -> 0 | F29: 1 | G29: 式 | H29: =E29*F29 -> 0 | I29: 内訳は別紙１
C30: イ | D30: その他物品調達業務に要する経費 | F30: 1 | G30: 式 | H30: =E30*F30 -> 0
B31: 小計② | H31: =SUM(H28,H22:H24) -> 0
A32: 3 | B32: 警備関係業務 | E32: - | F32: - | G32: - | H32: -
B33: (1) | C33: 警備案内計画書作成業務 | F33: 1 | G33: 式 | H33: =E33*F33 -> 0
B34: (2) | C34: 警備・案内誘導業務 | E34: - | F34: 1 | G34: 式 | H34: =SUM(H35:H42) -> 0 | I34: 警備計画書との整合を図ること。
C35: ア | D35: 統括責任者 | F35: =別紙２!P274 -> 0 | G35: 人 | H35: =E35*F35 -> 0
C36: イ | D36: 警備責任者 | F36: =別紙２!P275 -> 0 | G36: 人 | H36: =E36*F36 -> 0
C37: ウ | D37: 習志野地区専任責任者 | F37: =別紙２!P276 -> 0 | G37: 人 | H37: =E37*F37 -> 0
C38: エ | D38: 警備隊長 | F38: =別紙２!Q277 -> 0 | G38: 時間 | H38: =E38*F38 -> 0 | I38: 内訳は別紙２
C39: オ | D39: 警備員 | F39: =別紙２!Q278 -> 0 | G39: 時間 | H39: =E39*F39 -> 0 | I39: 内訳は別紙２
C40: カ | D40: 案内誘導責任者 | F40: =別紙２!P279 -> 0 | G40: 人 | H40: =E40*F40 -> 0
C41: キ | D41: 案内誘導リーダー | F41: =別紙２!Q280 -> 0 | G41: 時間 | H41: =E41*F41 -> 0 | I41: 内訳は別紙２
C42: ク | D42: 案内誘導員 | F42: =別紙２!Q281 -> 0 | G42: 時間 | H42: =E42*F42 -> 0 | I42: 内訳は別紙２
...

Sheet 別紙１
A1: （様式９別紙１）物品ごとの調達費用内訳
A2: No. | B2: 名称 | C2: 仕様 | D2: 単価 | E2: 数量 | F2: 単位 | G2: 金額
A3: 1 | B3: ステージセット（開会式用） | C3: ｽﾃｰｼﾞ3.6m×5.4m､ｲﾝﾄﾚ1.8m×1.5m×5基 | E3: 1 | F3: 基 | G3: =D3*E3 -> 0
A4: =A3+1 -> 2 | B4: テント2k×3k | C4: 3.6m×5.4m h3100 | E4: 53 | F4: 張 | G4: =D4*E4 -> 0
A5: =A4+1 -> 3 | B5: テント1.5k×2k | C5: 2.7m×3.6ｍ h2850 | E5: 25 | F5: 張 | G5: =D5*E5 -> 0
A6: =A5+1 -> 4 | B6: テント3m×3m | C6: 3m×3m | E6: 10 | F6: 張 | G6: =D6*E6 -> 0
A7: =A6+1 -> 5 | B7: ウエイト | C7: テント杭＋養生ロープ含む | E7: 592 | F7: 個 | G7: =D7*E7 -> 0
A8: =A7+1 -> 6 | B8: 照明（テント用） | E8: 142 | F8: 台 | G8: =D8*E8 -> 0
A9: =A8+1 -> 7 | B9: 左右幕 | C9: 2k×3k用 | E9: =7+9 -> 16 | F9: 組 | G9: =D9*E9 -> 0
A10: =A9+1 -> 8 | B10: 四方幕 | C10: 1.5K×2K用 | E10: 3 | F10: 組 | G10: =D10*E10 -> 0
A11: =A10+1 -> 9 | B11: デコラテーブル1800×900 | C11: 1.8m×0.9m h700 | E11: 301 | F11: 台 | G11: =D11*E11 -> 0
A12: =A11+1 -> 10 | B12: 折イス | C12: 0.5m×0.5m | E12: 571 | F12: 脚 | G12: =D12*E12 -> 0
A13: =A12+1 -> 11 | B13: 大型扇風機 | C13: 風量：強131/149㎡/min以上 | E13: 5 | F13: 台 | G13: =D13*E13 -> 0
A14: =A13+1 -> 12 | B14: 簡易ベッド | C14: 2m×1m（枕、敷布付） | E14: 5 | F14: ｾｯﾄ | G14: =D14*E14 -> 0
A15: =A14+1 -> 13 | B15: タオルケット | E15: 5 | F15: ｾｯﾄ | G15: =D15*E15 -> 0
A16: =A15+1 -> 14 | B16: バスタオル | E16: 30 | F16: 枚 | G16: =D16*E16 -> 0
A17: =A16+1 -> 15 | B17: クーラーボックス | C17: 100ℓ以上 | E17: 10 | F17: 台 | G17: =D17*E17 -> 0
A18: =A17+1 -> 16 | B18: 仮設トイレ・和式（汲み取り費用含む） | C18: 1m×1.5m h2600 | E18: 120 | F18: 台 | G18: =D18*E18 -> 0
A19: =A18+1 -> 17 | B19: 仮設トイレ・洋式（汲み取り費用含む） | E19: 42 | F19: 台 | G19: =D19*E19 -> 0
A20: =A19+1 -> 18 | B20: 仮設トイレ男小便用（汲み取り費用含む） | E20: 35 | F20: 台 | G20: =D20*E20 -> 0
A21: =A20+1 -> 19 | B21: 手洗い器 | E21: 20 | F21: 台 | G21: =D21*E21 -> 0
A22: =A21+1 -> 20 | B22: 仮設多目的トイレ | E22: 3 | F22: 台 | G22: =D22*E22 -> 0
A23: =A22+1 -> 21 | B23: 汚物入れ | E23: 82 | F23: 個 | G23: =D23*E23 -> 0
A24: =A23+1 -> 22 | B24: 汚物入れビニール袋 | E24: 200 | F24: 枚 | G24: =D24*E24 -> 0
A25: =A24+1 -> 23 | B25: ゴミ箱（キャリー） | C25: 1m×0.8m h935 | E25: 91 | F25: 台 | G25: =D25*E25 -> 0
A26: =A25+1 -> 24 | B26: ゴミ袋 | C26: キャリー用 | E26: 3 | F26: 式 | G26: =D26*E26 -> 0
A27: =A26+1 -> 25 | B27: バルーンライト | C27: 1.5m×1.5m ｈ4000 | E27: 21 | F27: 台 | G27: =D27*E27 -> 0
A28: =A27+1 -> 26 | B28: 投光器 | C28: 4灯式 | E28: 60 | F28: 台 | G28: =D28*E28 -> 0
A29: =A28+1 -> 27 | B29: 発電機2.8KVA | C29: 0.66m×0.47m 燃料満タン | E29: 33 | F29: 台 | G29: =D29*E29 -> 0
A30: =A29+1 -> 28 | B30: 発電機10KVA | C30: 1.2m×0.7m 燃料満タン | E30: 8 | F30: 台 | G30: =D30*E30 -> 0
A31: =A30+1 -> 29 | B31: 発電機20KVA | C31: 1.6m×0.7m 燃料満タン | E31: 8 | F31: 台 | G31: =D31*E31 -> 0
A32: =A31+1 -> 30 | B32: 発電機37KVA | C32: 2m×0.9m 燃料満タン | E32: 3 | F32: 台 | G32: =D32*E32 -> 0
A33: =A32+1 -> 31 | B33: 発電機45KVA | C33: 2.5m×1.5m 燃料満タン | E33: 9 | F33: 台 | G33: =D33*E33 -> 0
A34: =A33+1 -> 32 | B34: 予備ガソリン | C34: 発電機補充用 携行缶含む | E34: 20 | F34: Ｌ | G34: =D34*E34 -> 0
A35: =A34+1 -> 33 | B35: 予備軽油 | C35: 発電機補充用 携行缶含む | E35: 40 | F35: Ｌ | G35: =D35*E35 -> 0
A36: =A35+1 -> 34 | B36: シリンダー蛍光灯 | C36: 通路用 | E36: 150 | F36: 個 | G36: =D36*E36 -> 0
A37: =A36+1 -> 35 | B37: 消火器 | E37: 49 | F37: 本 | G37: =D37*E37 -> 0
A38: =A37+1 -> 36 | B38: コーンバー | C38: 2m×0.04 | E38: 1400 | F38: 本 | G38: =D38*E38 -> 0
A39: =A38+1 -> 37 | B39: カラーコーン | C39: 0.4m×0.4m h700 | E39: 8450 | F39: 個 | G39: =D39*E39 -> 0
A40: =A39+1 -> 38 | B40: イレクターフェンス（ウエイト込み） | C40: 1.8m×0.45m h1100 | E40: 3050 | F40: 台 | G40: =D40*E40 -> 0
...

Sheet 別紙２
A1: （様式９別紙2）警備業務内訳
A2: 種別 | B2: 図面番号 | C2: 配置 NO | D2: 参考 | K2: 提案 | R2: 役割
D3: 開始 | F3: 終了 | G3: 時間 | H3: ポスト | I3: 人員 | J3: 時間数計 | K3: 開始 | M3: 終了 | N3: 時間 | O3: ポスト | P3: 人員 | Q3: 時間数計
A4: 警備員 | B4: 1-A | C4: 1 | D4: 0.29166667 | E4: ～ | F4: 0.875 | G4: =(F4-D4)*24 -> 14 | H4: 5P | I4: 7 | J4: =G4*I4 -> 98 | L4: ～ | N4: =(M4-K4)*24 -> 0 | Q4: =N4*P4 -> 0 | R4: 立哨警備(進入禁止エリアへの侵入防止)/及び湯楽の里関係者以外の断ち切り
A5: 警備員 | B5: 1-B | C5: 2 | D5: 0.47916667 | E5: ～ | F5: 0.875 | G5: =(F5-D5)*24 -> 9.5 | H5: 1P | I5: 2 | J5: =G5*I5 -> 19 | L5: ～ | N5: =(M5-K5)*24 -> 0 | Q5: =N5*P5 -> 0 | R5: 防波堤立入禁止・落水防止
A6: 警備員 | B6: 1-B | C6: 3 | D6: 0.66666667 | E6: ～ | F6: 0.9375 | G6: =(F6-D6)*24 -> 6.5 | H6: 3P | I6: 4 | J6: =G6*I6 -> 26 | L6: ～ | N6: =(M6-K6)*24 -> 0 | Q6: =N6*P6 -> 0 | R6: Dエリア不正入場防止及びリストバンドチェック
A7: 警備員 | B7: 1-B | C7: 4 | D7: 0.66666667 | E7: ～ | F7: 0.9375 | G7: =(F7-D7)*24 -> 6.5 | H7: 2P | I7: 3 | J7: =G7*I7 -> 19.5 | L7: ～ | N7: =(M7-K7)*24 -> 0 | Q7: =N7*P7 -> 0 | R7: 駐車場エリア規制/Cエリア砂浜侵入防止
A8: 警備員 | B8: 1-B | C8: 5 | D8: 0.66666667 | E8: ～ | F8: 0.9375 | G8: =(F8-D8)*24 -> 6.5 | H8: 2P | I8: 3 | J8: =G8*I8 -> 19.5 | L8: ～ | N8: =(M8-K8)*24 -> 0 | Q8: =N8*P8 -> 0 | R8: 観覧席案内※打上げ終了後退場案内※20時より立ち位置移動(1P)
A9: 警備員 | B9: 1-B | C9: 6 | D9: 0.47916667 | E9: ～ | F9: 0.9375 | G9: =(F9-D9)*24 -> 11 | H9: 3P | I9: 4 | J9: =G9*I9 -> 44 | L9: ～ | N9: =(M9-K9)*24 -> 0 | Q9: =N9*P9 -> 0 | R9: 関係車両管理・立入禁止対応
A10: 警備員 | B10: 1-B | C10: 7 | D10: 0.66666667 | E10: ～ | F10: 0.9375 | G10: =(F10-D10)*24 -> 6.5 | H10: 1P | I10: 2 | J10: =G10*I10 -> 13 | L10: ～ | N10: =(M10-K10)*24 -> 0 | Q10: =N10*P10 -> 0 | R10: 立入禁止エリア警戒
A11: 警備員 | B11: 1-B | C11: 8 | D11: 0.66666667 | E11: ～ | F11: 0.9375 | G11: =(F11-D11)*24 -> 6.5 | H11: 1P | I11: 2 | J11: =G11*I11 -> 13 | L11: ～ | N11: =(M11-K11)*24 -> 0 | Q11: =N11*P11 -> 0 | R11: エリア規制要員
A12: 警備員 | B12: 1-B | C12: 10 | D12: 0.47916667 | E12: ～ | F12: 0.9375 | G12: =(F12-D12)*24 -> 11 | H12: 1P | I12: 2 | J12: =G12*I12 -> 22 | L12: ～ | N12: =(M12-K12)*24 -> 0 | Q12: =N12*P12 -> 0 | R12: 侵入防止
A13: 案内誘導員 | B13: 1-B | C13: 1 | D13: 0.58333333 | E13: ～ | F13: 0.9375 | G13: =(F13-D13)*24 -> 8.5 | I13: 1 | J13: =G13*I13 -> 8.5 | L13: ～ | N13: =(M13-K13)*24 -> 0 | Q13: =N13*P13 -> 0 | R13: 1-B本部と現場の連絡・調整
A14: 案内誘導員 | B14: 1-B | C14: 2 | D14: 0.60416667 | E14: ～ | F14: 0.9375 | G14: =(F14-D14)*24 -> 8 | H14: 2P | I14: 3 | J14: =G14*I14 -> 24 | L14: ～ | N14: =(M14-K14)*24 -> 0 | Q14: =N14*P14 -> 0 | R14: Dエリアリストバンドチェック
A15: 案内誘導員 | B15: 1-B | C15: 3 | D15: 0.60416667 | E15: ～ | F15: 0.9375 | G15: =(F15-D15)*24 -> 8 | H15: 2P | I15: 3 | J15: =G15*I15 -> 24 | L15: ～ | N15: =(M15-K15)*24 -> 0 | Q15: =N15*P15 -> 0 | R15: Cエリアリストバンドチェック
A16: 案内誘導員 | B16: 1-B | C16: 4 | D16: 0.60416667 | E16: ～ | F16: 0.9375 | G16: =(F16-D16)*24 -> 8 | H16: 2P | I16: 3 | J16: =G16*I16 -> 24 | L16: ～ | N16: =(M16-K16)*24 -> 0 | Q16: =N16*P16 -> 0 | R16: 観覧席への案内誘導(Cエリア)
A17: 案内誘導員 | B17: 1-B | C17: 5 | D17: 0.60416667 | E17: ～ | F17: 0.9375 | G17: =(F17-D17)*24 -> 8 | H17: 3P | I17: 4 | J17: =G17*I17 -> 32 | L17: ～ | N17: =(M17-K17)*24 -> 0 | Q17: =N17*P17 -> 0 | R17: エリア巡回(迷子対応)トイレ・売店整理
A18: 案内誘導員 | B18: 1-B | C18: 6 | D18: 0.60416667 | E18: ～ | F18: 0.9375 | G18: =(F18-D18)*24 -> 8 | H18: 2P | I18: 3 | J18: =G18*I18 -> 24 | L18: ～ | N18: =(M18-K18)*24 -> 0 | Q18: =N18*P18 -> 0 | R18: 観覧席への案内誘導
A19: 案内誘導員 | B19: 1-B | C19: 7 | D19: 0.60416667 | E19: ～ | F19: 0.9375 | G19: =(F19-D19)*24 -> 8 | H19: 4P | I19: 6 | J19: =G19*I19 -> 48 | L19: ～ | N19: =(M19-K19)*24 -> 0 | Q19: =N19*P19 -> 0 | R19: エリア巡回(迷子対応)トイレ・売店整理(遊撃)
A20: 警備員 | B20: 班長 | D20: 0.45833333 | E20: ～ | F20: 0.95833333 | G20: =(F20-D20)*24 -> 12 | I20: 1 | J20: =G20*I20 -> 12 | L20: ～ | N20: =(M20-K20)*24 -> 0 | Q20: =N20*P20 -> 0 | R20: 1-B警備員管理 遊撃指揮
A21: 警備員 | B21: 遊撃 | D21: 0.58333333 | E21: ～ | F21: 0.95833333 | G21: =(F21-D21)*24 -> 9 | I21: 1 | J21: =G21*I21 -> 9 | L21: ～ | N21: =(M21-K21)*24 -> 0 | Q21: =N21*P21 -> 0 | R21: 事案発生・緊急時対応・巡回
A22: 警備員 | B22: 1-C | C22: 11 | D22: 0.45833333 | E22: ～ | F22: 0.875 | G22: =(F22-D22)*24 -> 10 | H22: 1P | I22: 2 | J22: =G22*I22 -> 20 | L22: ～ | N22: =(M22-K22)*24 -> 0 | Q22: =N22*P22 -> 0 | R22: 防波堤立入禁止・落水防止
A23: 警備員 | B23: 1-C | C23: 12 | D23: 0.66666667 | E23: ～ | F23: 0.9375 | G23: =(F23-D23)*24 -> 6.5 | H23: 1P | I23: 2 | J23: =G23*I23 -> 13 | L23: ～ | N23: =(M23-K23)*24 -> 0 | Q23: =N23*P23 -> 0 | R23: エリア不正入場防止
A24: 警備員 | B24: 1-C | C24: 13 | D24: 0.66666667 | E24: ～ | F24: 0.9375 | G24: =(F24-D24)*24 -> 6.5 | H24: 5P | I24: 7 | J24: =G24*I24 -> 45.5 | L24: ～ | N24: =(M24-K24)*24 -> 0 | Q24: =N24*P24 -> 0 | R24: エリア不正入場防止
A25: 警備員 | B25: 1-C | C25: 14 | D25: 0.66666667 | E25: ～ | F25: 0.9375 | G25: =(F25-D25)*24 -> 6.5 | H25: 3P | I25: 4 | J25: =G25*I25 -> 26 | L25: ～ | N25: =(M25-K25)*24 -> 0 | Q25: =N25*P25 -> 0 | R25: 観覧席案内※打ち上げ終了後退場案内
A26: 案内誘導員 | B26: 1-C | C26: 8 | D26: 0.58333333 | E26: ～ | F26: 0.9375 | G26: =(F26-D26)*24 -> 8.5 | I26: 1 | J26: =G26*I26 -> 8.5 | L26: ～ | N26: =(M26-K26)*24 -> 0 | Q26: =N26*P26 -> 0 | R26: 1-C本部と現場の連絡・調整
A27: 案内誘導員 | B27: 1-C | C27: 9 | D27: 0.60416667 | E27: ～ | F27: 0.9375 | G27: =(F27-D27)*24 -> 8 | H27: 2P | I27: 3 | J27: =G27*I27 -> 24 | L27: ～ | N27: =(M27-K27)*24 -> 0 | Q27: =N27*P27 -> 0 | R27: Aエリアリストバンドチェック
A28: 案内誘導員 | B28: 1-C | C28: 10 | D28: 0.60416667 | E28: ～ | F28: 0.9375 | G28: =(F28-D28)*24 -> 8 | H28: 2P | I28: 3 | J28: =G28*I28 -> 24 | L28: ～ | N28: =(M28-K28)*24 -> 0 | Q28: =N28*P28 -> 0 | R28: Bエリアリストバンドチェック
A29: 案内誘導員 | B29: 1-C | C29: 11 | D29: 0.60416667 | E29: ～ | F29: 0.9375 | G29: =(F29-D29)*24 -> 8 | H29: 14P | I29: 20 | J29: =G29*I29 -> 160 | L29: ～ | N29: =(M29-K29)*24 -> 0 | Q29: =N29*P29 -> 0 | R29: 観覧席への案内誘導(ビーチS・A・B席)
A30: 案内誘導員 | B30: 1-C | C30: 12 | D30: 0.60416667 | E30: ～ | F30: 0.9375 | G30: =(F30-D30)*24 -> 8 | H30: 2P | I30: 3 | J30: =G30*I30 -> 24 | L30: ～ | N30: =(M30-K30)*24 -> 0 | Q30: =N30*P30 -> 0 | R30: Bエリアリストバンドチェック
A31: 案内誘導員 | B31: 1-C | C31: 13 | D31: 0.60416667 | E31: ～ | F31: 0.9375 | G31: =(F31-D31)*24 -> 8 | H31: 8P | I31: 12 | J31: =G31*I31 -> 96 | L31: ～ | N31: =(M31-K31)*24 -> 0 | Q31: =N31*P31 -> 0 | R31: エリア管理・緊急時IF開放・避難誘導係・終了後のIF開放及び管理
A32: 案内誘導員 | B32: 1-C | C32: 14 | D32: 0.60416667 | E32: ～ | F32: 0.9375 | G32: =(F32-D32)*24 -> 8 | H32: 2P | I32: 3 | J32: =G32*I32 -> 24 | L32: ～ | N32: =(M32-K32)*24 -> 0 | Q32: =N32*P32 -> 0 | R32: 車椅子リストバンドチェック及び第二本部へ観覧者が入らないための注意喚起
A33: 警備隊長 | B33: 第一小隊長 | D33: 0.45833333 | E33: ～ | F33: 0.95833333 | G33: =(F33-D33)*24 -> 12 | I33: 1 | J33: =G33*I33 -> 12 | L33: ～ | N33: =(M33-K33)*24 -> 0 | Q33: =N33*P33 -> 0 | R33: 小隊運用・指揮 本部との連絡・調整
A34: 警備員 | B34: 班長 | D34: 0.45833333 | E34: ～ | F34: 0.95833333 | G34: =(F34-D34)*24 -> 12 | I34: 1 | J34: =G34*I34 -> 12 | L34: ～ | N34: =(M34-K34)*24 -> 0 | Q34: =N34*P34 -> 0 | R34: 1-C警備員管理 遊撃指揮
A35: 警備員 | B35: 遊撃 | D35: 0.58333333 | E35: ～ | F35: 0.95833333 | G35: =(F35-D35)*24 -> 9 | I35: 1 | J35: =G35*I35 -> 9 | L35: ～ | N35: =(M35-K35)*24 -> 0 | Q35: =N35*P35 -> 0 | R35: 事案発生・緊急時対応・巡回
A36: 警備員 | B36: 1-D | C36: 15 | D36: 0.22916667 | E36: ～ | F36: 0.95833333 | G36: =(F36-D36)*24 -> 17.5 | H36: 4P | I36: 7 | J36: =G36*I36 -> 122.5 | L36: ～ | N36: =(M36-K36)*24 -> 0 | Q36: =N36*P36 -> 0 | R36: 立入禁止エリア警戒
A37: 警備員 | B37: 1-D | C37: 15 | D37: 0.29166667 | E37: ～ | F37: 1.25 | G37: =(F37-D37)*24 -> 23 | H37: 2P | I37: 3 | J37: =G37*I37 -> 69 | L37: ～ | N37: =(M37-K37)*24 -> 0 | Q37: =N37*P37 -> 0 | R37: 立入禁止エリア警戒(前日・夜勤：8/2朝6時から8/3朝6時)
A38: 案内誘導員 | B38: 1-D | C38: 15 | D38: 0.58333333 | E38: ～ | F38: 0.9375 | G38: =(F38-D38)*24 -> 8.5 | I38: 1 | J38: =G38*I38 -> 8.5 | L38: ～ | N38: =(M38-K38)*24 -> 0 | Q38: =N38*P38 -> 0 | R38: 1-D本部と現場の連絡・調整
A39: 案内誘導員 | B39: 1-D | C39: 16 | D39: 0.60416667 | E39: ～ | F39: 0.9375 | G39: =(F39-D39)*24 -> 8 | H39: 1P | I39: 2 | J39: =G39*I39 -> 16 | L39: ～ | N39: =(M39-K39)*24 -> 0 | Q39: =N39*P39 -> 0 | R39: 観覧席入口(特別協賛席・Sエリア・車椅子席)※再入場動線
A40: 案内誘導員 | B40: 1-D | C40: 17 | D40: 0.60416667 | E40: ～ | F40: 0.9375 | G40: =(F40-D40)*24 -> 8 | H40: 1P | I40: 2 | J40: =G40*I40 -> 16 | L40: ～ | N40: =(M40-K40)*24 -> 0 | Q40: =N40*P40 -> 0 | R40: 入口案内(特別協賛席・Sエリア・車椅子席)
...

Sheet 別紙３
A1: （様式９別紙3）【参考】Ｒ7年花火大会で使用した音響機材（規格・数量） | F1: 別紙３
B3: 品目 | C3: 数量 | D3: メーカー | E3: 機種 | F3: スペック
A4: ステージ | B4: メインスピーカー | C4: 4 | D4: EV | E4: ZX5 | F4: 500w
B5: モニタースピーカー | C5: 2 | D5: EV | E5: SX300 | F5: 300w
B6: アンプ | C6: 3 | D6: YAMAHA | E6: PX10 | F6: 1kw/ch
B7: 調整卓 | C7: 1 | D7: YAMAHA | E7: EMX5016 | F7: 16ch
B8: トランペットスピーカー | C8: 2 | D8: TOA | E8: TH50 | F8: 50ｗ
B9: ワイヤレスマイク | C9: 5 | D9: SHURE | E9: QLX
B10: LED投光器他 | C10: 4 | D10: DENSEN | E10: LD15000 | F10: 15000lm
A11: 観覧席 | B11: トランペットスピーカー | C11: 106 | D11: TOA | E11: TH50 | F11: 30w
B12: アンプ | C12: 6 | D12: YAMAHA | E12: PC3301N | F12: 330w/ch
A13: 打ち上げ本部 | B13: 来賓用スピーカー | C13: 4 | D13: EV | E13: SX300 | F13: 300w
B14: アンプ | C14: 1 | D14: YAMAHA | E14: PX5 | F14: 600w/ch
B15: 調整卓 | C15: 2 | D15: BEHRINGER | E15: XR18 | F15: 16ch
B16: CDプレイヤー | C16: 1 | D16: TASCAM | E16: MDCD1
B17: PC | C17: 1 | D17: DELL
B18: headphoneSystem | C18: 1式 | D18: SONY
