Workbook

Sheet 様式
A1: （様式９）
E2: 年 月 日
A3: 見積書
A5: 千葉市民花火大会実行委員会会長 様
E7: 所在地
E8: 名称
E9: 代表者職・氏名
E10: 連絡先
A11: 業務名：第４8回千葉市民花火大会会場設営・警備等業務委託
A12: No. | B12: 名称 | E12: 単価 | F12: 数量 | G12: 単位 | H12: 金額 | I12: 備考
A13: 1 | B13: 管理業務 | E13: - | F13: - | G13: - | H13: -
B14: (1) | C14: 作業計画書作成業務 | F14: 1 | G14: 式 | H14: =E14*F14 -> 0
B15: (2) | C15: 実施報告書（成果物）の作成・提出 | F15: 1 | G15: 式 | H15: =E15*F15 -> 0
B16: (3) | C16: 各種申請業務 | F16: 1 | G16: 式 | H16: =E16*F16 -> 0
B17: (4) | C17: 市民招待席及び無料招待席の事前受付・抽選・当選通知発送業務 | F17: 1 | G17: 式 | H17: =E17*F17 -> 0
B18: (5) | C18: 売店区画等の募集及び管理・運営業務 | F18: 1 | G18: 式 | H18: =E18*F18 -> 0
B19: (6) | C19: 関係者打合せ | F19: 1 | G19: 式 | H19: =E19*F19 -> 0
B20: 小計① | H20: =SUM(H14:H19) -> 0
A21: 2 | B21: 会場設営関係業務 | E21: - | F21: - | G21: - | H21: -
B22: (1) | C22: 会場等設営計画書作成業務 | F22: 1 | G22: 式 | H22: =E22*F22 -> 0
B23: (2) | C23: 看板表示製作及び設置業務 | F23: 1 | G23: 式 | H23: =E23*F23 -> 0 | I23: デザイン・設置等に要する経費
B24: (3) | C24: 設営・運営・撤去業務 | E24: - | F24: 1 | G24: 式 | H24: =SUM(H25:H27) -> 0
C25: ア | D25: 設営スタッフ | G25: 時間 | H25: =E25*F25 -> 0
C26: イ | D26: 資材運搬費 | F26: 1 | G26: 式 | H26: =E26*F26 -> 0
C27: ウ | D27: その他経費 | F27: 1 | G27: 式 | H27: =E27*F27 -> 0
B28: (4) | C28: 物品調達業務 | E28: - | F28: 1 | G28: 式 | H28: =SUM(H29:H30) -> 0 | I28: 物品ごとの数量及び単価を別紙に明記すること。
C29: ア | D29: 物品ごとの調達費用 | E29: =別紙１!G103 -> 0 | F29: 1 | G29: 式 | H29: =E29*F29 -> 0 | I29: 内訳は別紙１
C30: イ | D30: その他物品調達業務に要する経費 | F30: 1 | G30: 式 | H30: =E30*F30 -> 0
B31: 小計② | H31: =SUM(H28,H22:H24) -> 0
A32: 3 | B32: 警備関係業務 | E32: - | F32: - | G32: - | H32: -
B33: (1) | C33: 警備案内計画書作成業務 | F33: 1 | G33: 式 | H33: =E33*F33 -> 0
B34: (2) | C34: 警備・案内誘導業務 | E34: - | F34: 1 | G34: 式 | H34: =SUM(H35:H42) -> 0 | I34: 警備計画書との整合を図ること。
C35: ア | D35: 統括責任者 | F35: =別紙２!P274 -> 0 | G35: 人 | H35: =E35*F35 -> 0
C36: イ | D36: 警備責任者 | F36: =別紙２!P275 -> 0 | G36: 人 | H36: =E36*F36 -> 0
C37: ウ | D37: 習志野地区専任責任者 | F37: =別紙２!P276 -> 0 | G37: 人 | H37: =E37*F37 -> 0
C38: エ | D38: 警備隊長 | F38: =別紙２!Q277 -> 0 | G38: 時間 | H38: =E38*F38 -> 0 | I38: 内訳は別紙２
C39: オ | D39: 警備員 | F39: =別紙２!Q278 -> 0 | G39: 時間 | H39: =E39*F39 -> 0 | I39: 内訳は別紙２
C40: カ | D40: 案内誘導責任者 | F40: =別紙２!P279 -> 0 | G40: 人 | H40: =E40*F40 -> 0
C41: キ | D41: 案内誘導リーダー | F41: =別紙２!Q280 -> 0 | G41: 時間 | H41: =E41*F41 -> 0 | I41: 内訳は別紙２
C42: ク | D42: 案内誘導員 | F42: =別紙２!Q281 -> 0 | G42: 時間 | H42: =E42*F42 -> 0 | I42: 内訳は別紙２
B43: (3) | C43: 従事者マニュアル作成業務 | F43: 1 | G43: 式 | H43: =E43*F43 -> 0
B44: 小計③ | H44: =SUM(H33:H34,H43:H43) -> 0
A45: 4 | B45: 管理費 | F45: 1 | G45: 式 | H45: =E45*F45 -> 0 | I45: （小計①+②+③）×●％
A46: 合計（税抜） | H46: =H20+H31+H44+H45 -> 0 | I46: 小計①+②+③+管理費
A47: 消費税 | H47: =ROUNDDOWN(H46*0.1,0) -> 0 | I47: 0.1
A48: 合計（税込） | H48: =H46+H47 -> 0

Sheet 別紙１
A1: （様式９別紙１）物品ごとの調達費用内訳
A2: No. | B2: 名称 | C2: 仕様 | D2: 単価 | E2: 数量 | F2: 単位 | G2: 金額
A3: 1 | B3: ステージセット（開会式用） | C3: ｽﾃｰｼﾞ3.6m×5.4m､ｲﾝﾄﾚ1.8m×1.5m×5基 | E3: 1 | F3: 基 | G3: =D3*E3 -> 0
A4: =A3+1 -> 2 | B4: テント2k×3k | C4: 3.6m×5.4m h3100 | E4: 53 | F4: 張 | G4: =D4*E4 -> 0
A5: =A4+1 -> 3 | B5: テント1.5k×2k | C5: 2.7m×3.6ｍ h2850 | E5: 25 | F5: 張 | G5: =D5*E5 -> 0
A6: =A5+1 -> 4 | B6: テント3m×3m | C6: 3m×3m | E6: 10 | F6: 張 | G6: =D6*E6 -> 0
A7: =A6+1 -> 5 | B7: ウエイト | C7: テント杭＋養生ロープ含む | E7: 592 | F7: 個 | G7: =D7*E7 -> 0
A8: =A7+1 -> 6 | B8: 照明（テント用） | E8: 142 | F8: 台 | G8: =D8*E8 -> 0
A9: =A8+1 -> 7 | B9: 左右幕 | C9: 2k×3k用 | E9: =7+9 -> 16 | F9: 組 | G9: =D9*E9 -> 0
A10: =A9+1 -> 8 | B10: 四方幕 | C10: 1.5K×2K用 | E10: 3 | F10: 組 | G10: =D10*E10 -> 0
A11: =A10+1 -> 9 | B11: デコラテーブル1800×900 | C11: 1.8m×0.9m h700 | E11: 301 | F11: 台 | G11: =D11*E11 -> 0
A12: =A11+1 -> 10 | B12: 折イス | C12: 0.5m×0.5m | E12: 571 | F12: 脚 | G12: =D12*E12 -> 0
A13: =A12+1 -> 11 | B13: 大型扇風機 | C13: 風量：強131/149㎡/min以上 | E13: 5 | F13: 台 | G13: =D13*E13 -> 0
A14: =A13+1 -> 12 | B14: 簡易ベッド | C14: 2m×1m（枕、敷布付） | E14: 5 | F14: ｾｯﾄ | G14: =D14*E14 -> 0
A15: =A14+1 -> 13 | B15: タオルケット | E15: 5 | F15: ｾｯﾄ | G15: =D15*E15 -> 0
A16: =A15+1 -> 14 | B16: バスタオル | E16: 30 | F16: 枚 | G16: =D16*E16 -> 0
A17: =A16+1 -> 15 | B17: クーラーボックス | C17: 100ℓ以上 | E17: 10 | F17: 台 | G17: =D17*E17 -> 0
A18: =A17+1 -> 16 | B18: 仮設トイレ・和式（汲み取り費用含む） | C18: 1m×1.5m h2600 | E18: 120 | F18: 台 | G18: =D18*E18 -> 0
A19: =A18+1 -> 17 | B19: 仮設トイレ・洋式（汲み取り費用含む） | E19: 42 | F19: 台 | G19: =D19*E19 -> 0
A20: =A19+1 -> 18 | B20: 仮設トイレ男小便用（汲み取り費用含む） | E20: 35 | F20: 台 | G20: =D20*E20 -> 0
A21: =A20+1 -> 19 | B21: 手洗い器 | E21: 20 | F21: 台 | G21: =D21*E21 -> 0
A22: =A21+1 -> 20 | B22: 仮設多目的トイレ | E22: 3 | F22: 台 | G22: =D22*E22 -> 0
A23: =A22+1 -> 21 | B23: 汚物入れ | E23: 82 | F23: 個 | G23: =D23*E23 -> 0
A24: =A23+1 -> 22 | B24: 汚物入れビニール袋 | E24: 200 | F24: 枚 | G24: =D24*E24 -> 0
A25: =A24+1 -> 23 | B25: ゴミ箱（キャリー） | C25: 1m×0.8m h935 | E25: 91 | F25: 台 | G25: =D25*E25 -> 0
A26: =A25+1 -> 24 | B26: ゴミ袋 | C26: キャリー用 | E26: 3 | F26: 式 | G26: =D26*E26 -> 0
A27: =A26+1 -> 25 | B27: バルーンライト | C27: 1.5m×1.5m ｈ4000 | E27: 21 | F27: 台 | G27: =D27*E27 -> 0
A28: =A27+1 -> 26 | B28: 投光器 | C28: 4灯式 | E28: 60 | F28: 台 | G28: =D28*E28 -> 0
A29: =A28+1 -> 27 | B29: 発電機2.8KVA | C29: 0.66m×0.47m 燃料満タン | E29: 33 | F29: 台 | G29: =D29*E29 -> 0
A30: =A29+1 -> 28 | B30: 発電機10KVA | C30: 1.2m×0.7m 燃料満タン | E30: 8 | F30: 台 | G30: =D30*E30 -> 0
A31: =A30+1 -> 29 | B31: 発電機20KVA | C31: 1.6m×0.7m 燃料満タン | E31: 8 | F31: 台 | G31: =D31*E31 -> 0
A32: =A31+1 -> 30 | B32: 発電機37KVA | C32: 2m×0.9m 燃料満タン | E32: 3 | F32: 台 | G32: =D32*E32 -> 0
A33: =A32+1 -> 31 | B33: 発電機45KVA | C33: 2.5m×1.5m 燃料満タン | E33: 9 | F33: 台 | G33: =D33*E33 -> 0
A34: =A33+1 -> 32 | B34: 予備ガソリン | C34: 発電機補充用 携行缶含む | E34: 20 | F34: Ｌ | G34: =D34*E34 -> 0
A35: =A34+1 -> 33 | B35: 予備軽油 | C35: 発電機補充用 携行缶含む | E35: 40 | F35: Ｌ | G35: =D35*E35 -> 0
A36: =A35+1 -> 34 | B36: シリンダー蛍光灯 | C36: 通路用 | E36: 150 | F36: 個 | G36: =D36*E36 -> 0
A37: =A36+1 -> 35 | B37: 消火器 | E37: 49 | F37: 本 | G37: =D37*E37 -> 0
A38: =A37+1 -> 36 | B38: コーンバー | C38: 2m×0.04 | E38: 1400 | F38: 本 | G38: =D38*E38 -> 0
A39: =A38+1 -> 37 | B39: カラーコーン | C39: 0.4m×0.4m h700 | E39: 8450 | F39: 個 | G39: =D39*E39 -> 0
A40: =A39+1 -> 38 | B40: イレクターフェンス（ウエイト込み） | C40: 1.8m×0.45m h1100 | E40: 3050 | F40: 台 | G40: =D40*E40 -> 0
A41: =A40+1 -> 39 | B41: メッキフェンス（ウエイト込み） | C41: 1.8m×0.45m | E41: =180+170 -> 350 | F41: 枚 | G41: =D41*E41 -> 0
A42: =A41+1 -> 40 | B42: プラフェンス（ウエイト込み） | C42: 1m×0.059m h1200 | E42: 18 | F42: 枚 | G42: =D42*E42 -> 0
A43: =A42+1 -> 41 | B43: A型ガードフェンス | C43: 4m×0.65m h850 | E43: 30 | F43: 台 | G43: =D43*E43 -> 0
A44: =A43+1 -> 42 | B44: ネットフェンス50m | C44: 50m/本 | E44: 50 | F44: セット | G44: =D44*E44 -> 0
A45: =A44+1 -> 43 | B45: 立入禁止テープ | C45: 50ｍ/個 | E45: 280 | F45: 個 | G45: =D45*E45 -> 0
A46: =A45+1 -> 44 | B46: スズランテープ | C46: 470ｍ/個 | E46: 6 | F46: 個 | G46: =D46*E46 -> 0
A47: =A46+1 -> 45 | B47: ロープスティック | E47: 2360 | F47: 個 | G47: =D47*E47 -> 0
A48: =A47+1 -> 46 | B48: コードリール | C48: 30ｍ | E48: 1 | F48: 個 | G48: =D48*E48 -> 0
A49: =A48+1 -> 47 | B49: 単管4ｍ | E49: 9 | F49: 本 | G49: =D49*E49 -> 0
A50: =A49+1 -> 48 | B50: 単管杭 | E50: 6 | F50: 本 | G50: =D50*E50 -> 0
A51: =A50+1 -> 49 | B51: クランプ 自在 | E51: 20 | F51: 個 | G51: =D51*E51 -> 0
A52: =A51+1 -> 50 | B52: クランプカバー | E52: 20 | F52: 個 | G52: =D52*E52 -> 0
A53: =A52+1 -> 51 | B53: 歩行者用ゴムマット（2m×1m） | E53: 59 | F53: 枚 | G53: =D53*E53 -> 0
A54: =A53+1 -> 52 | B54: 土嚢袋（ビーチ席） | E54: 100 | F54: 個 | G54: =D54*E54 -> 0
A55: =A54+1 -> 53 | B55: トラテープ（50m/個） | E55: 3 | F55: 個 | G55: =D55*E55 -> 0
A56: =A55+1 -> 54 | B56: リストバンド | E56: 85400 | F56: 枚 | G56: =D56*E56 -> 0
A57: =A56+1 -> 55 | B57: 携帯電話 | E57: 30 | F57: 台 | G57: =D57*E57 -> 0
A58: =A57+1 -> 56 | B58: 無線機 | C58: 5w | E58: 55 | F58: 台 | G58: =D58*E58 -> 0
A59: =A58+1 -> 57 | B59: 当選ハガキ（V型圧着はがき・4色） | E59: 13000 | F59: 枚 | G59: =D59*E59 -> 0
A60: =A59+1 -> 58 | B60: ステ看板 | C60: W380×H1,800 ※足400㎜を含む | E60: 200 | F60: 枚 | G60: =D60*E60 -> 0
A61: =A60+1 -> 59 | B61: 横看板 | C61: W3,000×H450 | E61: 8 | F61: 枚 | G61: =D61*E61 -> 0
A62: =A61+1 -> 60 | B62: 横看板 | C62: W3,600×H450 | E62: 15 | F62: 枚 | G62: =D62*E62 -> 0
A63: =A62+1 -> 61 | B63: スチレン看板 | C63: W900×H200 | E63: 12 | F63: 枚 | G63: =D63*E63 -> 0
A64: =A63+1 -> 62 | B64: 会場案内看板 | C64: W3,600×H1,800 三角型自立設置 | E64: =2+2 -> 4 | F64: 枚 | G64: =D64*E64 -> 0
A65: =A64+1 -> 63 | B65: タイトル看板 | C65: W2,700×H600 ステージに設置 | E65: 1 | F65: 枚 | G65: =D65*E65 -> 0
A66: =A65+1 -> 64 | B66: 会場案内看板 | C66: W900×H1,800 | E66: 3 | F66: 枚 | G66: =D66*E66 -> 0
A67: =A66+1 -> 65 | B67: フェンス看板 | C67: W2,000×H300 A型フェンスに結束 | E67: 6 | F67: 枚 | G67: =D67*E67 -> 0
A68: =A67+1 -> 66 | B68: 協賛出展用ブース看板 | C68: W5400×H600 | E68: 4 | F68: 枚 | G68: =D68*E68 -> 0
A69: =A68+1 -> 67 | B69: 案内看板（自立） | C69: W900×H1,800×脚部300 | E69: 2 | F69: 枚 | G69: =D69*E69 -> 0
A70: =A69+1 -> 68 | B70: 案内用プラカード | C70: W450×H450 | E70: 50 | F70: 枚 | G70: =D70*E70 -> 0
A71: =A70+1 -> 69 | B71: イントレ 3段 | C71: スピーカー | E71: 1 | F71: セット | G71: =D71*E71 -> 0
A72: =A71+1 -> 70 | B72: イントレ 2段 | C72: ステージ用 | E72: 2 | F72: セット | G72: =D72*E72 -> 0
A73: =A72+1 -> 71 | B73: 音響機材一式 | C73: 別紙13-3参照 | E73: 1 | F73: セット | G73: =D73*E73 -> 0
A74: =A73+1 -> 72 | B74: 指定場所の撮影及び映像確認TV等一式 | E74: 4 | F74: セット | G74: =D74*E74 -> 0
A75: =A74+1 -> 73 | B75: ドローン撮影及び映像確認TV等一式 | E75: 1 | F75: セット | G75: =D75*E75 -> 0
A76: =A75+1 -> 74 | B76: 救護ユニットハウス | C76: 9㎡以上エアコン完備 | E76: 1 | F76: 式 | G76: =D76*E76 -> 0
A77: =A76+1 -> 75 | B77: 救護カー | E77: 2 | F77: 台 | G77: =D77*E77 -> 0
A78: =A77+1 -> 76 | B78: ホワイトボード | C78: W1800×H900（全高1800） | E78: 2 | F78: 台 | G78: =D78*E78 -> 0
A79: =A78+1 -> 77 | B79: 固定電話 | E79: 0 | F79: 台 | G79: =D79*E79 -> 0
A80: =A79+1 -> 78 | B80: ゴムマット（Aエリア車椅子用） | C80: 1ｍ×2ｍ厚さ20ｍｍ | E80: 220 | F80: 枚 | G80: =D80*E80 -> 0
A81: =A80+1 -> 79 | B81: ゴムマット設営用消耗品 | E81: 1 | F81: 式 | G81: =D81*E81 -> 0
A82: =A81+1 -> 80 | B82: 人工芝 | C82: Sエリア用 ２ｍ×２ｍ | E82: 20 | F82: セット | G82: =D82*E82 -> 0
A83: =A82+1 -> 81 | B83: 保冷車 | E83: 1 | F83: 式 | G83: =D83*E83 -> 0
A84: =A83+1 -> 82 | B84: べニアテーブル | C84: W600 | E84: 10 | F84: 台 | G84: =D84*E84 -> 0
A85: =A84+1 -> 83 | B85: 自転車 | C85: 習志野エリア | E85: 1 | F85: 台 | G85: =D85*E85 -> 0
A86: =A85+1 -> 84 | B86: 熱中症対策費 | E86: 1 | F86: 式 | G86: =D86*E86 -> 0
A87: =A86+1 -> 85 | B87: IP無線 | E87: 8 | F87: 式 | G87: =D87*E87 -> 0
A88: =A87+1 -> 86 | G88: =D88*E88 -> 0
A89: =A88+1 -> 87 | G89: =D89*E89 -> 0
A90: =A89+1 -> 88 | G90: =D90*E90 -> 0
A91: =A90+1 -> 89 | G91: =D91*E91 -> 0
A92: =A91+1 -> 90 | G92: =D92*E92 -> 0
A93: =A92+1 -> 91 | G93: =D93*E93 -> 0
A94: =A93+1 -> 92 | G94: =D94*E94 -> 0
A95: =A94+1 -> 93 | G95: =D95*E95 -> 0
A96: =A95+1 -> 94 | G96: =D96*E96 -> 0
A97: =A96+1 -> 95 | G97: =D97*E97 -> 0
A98: =A97+1 -> 96 | G98: =D98*E98 -> 0
A99: =A98+1 -> 97 | G99: =D99*E99 -> 0
... A102: =A101+1 -> 100 | G102: =D102*E102 -> 0
...

Sheet 別紙２
A1: （様式９別紙2）警備業務内訳
A2: 種別 | B2: 図面番号 | C2: 配置 NO | D2: 参考 | K2: 提案 | R2: 役割
D3: 開始 | F3: 終了 | G3: 時間 | H3: ポスト | I3: 人員 | J3: 時間数計 | K3: 開始 | M3: 終了 | N3: 時間 | O3: ポスト | P3: 人員 | Q3: 時間数計
A4: 警備員 | B4: 1-A | C4: 1 | D4: 0.29166667 | E4: ～ | F4: 0.875 | G4: =(F4-D4)*24 -> 14 | H4: 5P | I4: 7 | J4: =G4*I4 -> 98 | L4: ～ | N4: =(M4-K4)*24 -> 0 | Q4: =N4*P4 -> 0 | R4: 立哨警備(進入禁止エリアへの侵入防止)/及び湯楽の里関係者以外の断ち切り
A5: 警備員 | B5: 1-B | C5: 2 | D5: 0.47916667 | E5: ～ | F5: 0.875 | G5: =(F5-D5)*24 -> 9.5 | H5: 1P | I5: 2 | J5: =G5*I5 -> 19 | L5: ～ | N5: =(M5-K5)*24 -> 0 | Q5: =N5*P5 -> 0 | R5: 防波堤立入禁止・落水防止
A6: 警備員 | B6: 1-B | C6: 3 | D6: 0.66666667 | E6: ～ | F6: 0.9375 | G6: =(F6-D6)*24 -> 6.5 | H6: 3P | I6: 4 | J6: =G6*I6 -> 26 | L6: ～ | N6: =(M6-K6)*24 -> 0 | Q6: =N6*P6 -> 0 | R6: Dエリア不正入場防止及びリストバンドチェック
A7: 警備員 | B7: 1-B | C7: 4 | D7: 0.66666667 | E7: ～ | F7: 0.9375 | G7: =(F7-D7)*24 -> 6.5 | H7: 2P | I7: 3 | J7: =G7*I7 -> 19.5 | L7: ～ | N7: =(M7-K7)*24 -> 0 | Q7: =N7*P7 -> 0 | R7: 駐車場エリア規制/Cエリア砂浜侵入防止
A8: 警備員 | B8: 1-B | C8: 5 | D8: 0.66666667 | E8: ～ | F8: 0.9375 | G8: =(F8-D8)*24 -> 6.5 | H8: 2P | I8: 3 | J8: =G8*I8 -> 19.5 | L8: ～ | N8: =(M8-K8)*24 -> 0 | Q8: =N8*P8 -> 0 | R8: 観覧席案内※打上げ終了後退場案内※20時より立ち位置移動(1P)
A9: 警備員 | B9: 1-B | C9: 6 | D9: 0.47916667 | E9: ～ | F9: 0.9375 | G9: =(F9-D9)*24 -> 11 | H9: 3P | I9: 4 | J9: =G9*I9 -> 44 | L9: ～ | N9: =(M9-K9)*24 -> 0 | Q9: =N9*P9 -> 0 | R9: 関係車両管理・立入禁止対応
A10: 警備員 | B10: 1-B | C10: 7 | D10: 0.66666667 | E10: ～ | F10: 0.9375 | G10: =(F10-D10)*24 -> 6.5 | H10: 1P | I10: 2 | J10: =G10*I10 -> 13 | L10: ～ | N10: =(M10-K10)*24 -> 0 | Q10: =N10*P10 -> 0 | R10: 立入禁止エリア警戒
A11: 警備員 | B11: 1-B | C11: 8 | D11: 0.66666667 | E11: ～ | F11: 0.9375 | G11: =(F11-D11)*24 -> 6.5 | H11: 1P | I11: 2 | J11: =G11*I11 -> 13 | L11: ～ | N11: =(M11-K11)*24 -> 0 | Q11: =N11*P11 -> 0 | R11: エリア規制要員
A12: 警備員 | B12: 1-B | C12: 10 | D12: 0.47916667 | E12: ～ | F12: 0.9375 | G12: =(F12-D12)*24 -> 11 | H12: 1P | I12: 2 | J12: =G12*I12 -> 22 | L12: ～ | N12: =(M12-K12)*24 -> 0 | Q12: =N12*P12 -> 0 | R12: 侵入防止
A13: 案内誘導員 | B13: 1-B | C13: 1 | D13: 0.58333333 | E13: ～ | F13: 0.9375 | G13: =(F13-D13)*24 -> 8.5 | I13: 1 | J13: =G13*I13 -> 8.5 | L13: ～ | N13: =(M13-K13)*24 -> 0 | Q13: =N13*P13 -> 0 | R13: 1-B本部と現場の連絡・調整
A14: 案内誘導員 | B14: 1-B | C14: 2 | D14: 0.60416667 | E14: ～ | F14: 0.9375 | G14: =(F14-D14)*24 -> 8 | H14: 2P | I14: 3 | J14: =G14*I14 -> 24 | L14: ～ | N14: =(M14-K14)*24 -> 0 | Q14: =N14*P14 -> 0 | R14: Dエリアリストバンドチェック
A15: 案内誘導員 | B15: 1-B | C15: 3 | D15: 0.60416667 | E15: ～ | F15: 0.9375 | G15: =(F15-D15)*24 -> 8 | H15: 2P | I15: 3 | J15: =G15*I15 -> 24 | L15: ～ | N15: =(M15-K15)*24 -> 0 | Q15: =N15*P15 -> 0 | R15: Cエリアリストバンドチェック
A16: 案内誘導員 | B16: 1-B | C16: 4 | D16: 0.60416667 | E16: ～ | F16: 0.9375 | G16: =(F16-D16)*24 -> 8 | H16: 2P | I16: 3 | J16: =G16*I16 -> 24 | L16: ～ | N16: =(M16-K16)*24 -> 0 | Q16: =N16*P16 -> 0 | R16: 観覧席への案内誘導(Cエリア)
A17: 案内誘導員 | B17: 1-B | C17: 5 | D17: 0.60416667 | E17: ～ | F17: 0.9375 | G17: =(F17-D17)*24 -> 8 | H17: 3P | I17: 4 | J17: =G17*I17 -> 32 | L17: ～ | N17: =(M17-K17)*24 -> 0 | Q17: =N17*P17 -> 0 | R17: エリア巡回(迷子対応)トイレ・売店整理
A18: 案内誘導員 | B18: 1-B | C18: 6 | D18: 0.60416667 | E18: ～ | F18: 0.9375 | G18: =(F18-D18)*24 -> 8 | H18: 2P | I18: 3 | J18: =G18*I18 -> 24 | L18: ～ | N18: =(M18-K18)*24 -> 0 | Q18: =N18*P18 -> 0 | R18: 観覧席への案内誘導
A19: 案内誘導員 | B19: 1-B | C19: 7 | D19: 0.60416667 | E19: ～ | F19: 0.9375 | G19: =(F19-D19)*24 -> 8 | H19: 4P | I19: 6 | J19: =G19*I19 -> 48 | L19: ～ | N19: =(M19-K19)*24 -> 0 | Q19: =N19*P19 -> 0 | R19: エリア巡回(迷子対応)トイレ・売店整理(遊撃)
A20: 警備員 | B20: 班長 | D20: 0.45833333 | E20: ～ | F20: 0.95833333 | G20: =(F20-D20)*24 -> 12 | I20: 1 | J20: =G20*I20 -> 12 | L20: ～ | N20: =(M20-K20)*24 -> 0 | Q20: =N20*P20 -> 0 | R20: 1-B警備員管理 遊撃指揮
A21: 警備員 | B21: 遊撃 | D21: 0.58333333 | E21: ～ | F21: 0.95833333 | G21: =(F21-D21)*24 -> 9 | I21: 1 | J21: =G21*I21 -> 9 | L21: ～ | N21: =(M21-K21)*24 -> 0 | Q21: =N21*P21 -> 0 | R21: 事案発生・緊急時対応・巡回
A22: 警備員 | B22: 1-C | C22: 11 | D22: 0.45833333 | E22: ～ | F22: 0.875 | G22: =(F22-D22)*24 -> 10 | H22: 1P | I22: 2 | J22: =G22*I22 -> 20 | L22: ～ | N22: =(M22-K22)*24 -> 0 | Q22: =N22*P22 -> 0 | R22: 防波堤立入禁止・落水防止
A23: 警備員 | B23: 1-C | C23: 12 | D23: 0.66666667 | E23: ～ | F23: 0.9375 | G23: =(F23-D23)*24 -> 6.5 | H23: 1P | I23: 2 | J23: =G23*I23 -> 13 | L23: ～ | N23: =(M23-K23)*24 -> 0 | Q23: =N23*P23 -> 0 | R23: エリア不正入場防止
A24: 警備員 | B24: 1-C | C24: 13 | D24: 0.66666667 | E24: ～ | F24: 0.9375 | G24: =(F24-D24)*24 -> 6.5 | H24: 5P | I24: 7 | J24: =G24*I24 -> 45.5 | L24: ～ | N24: =(M24-K24)*24 -> 0 | Q24: =N24*P24 -> 0 | R24: エリア不正入場防止
A25: 警備員 | B25: 1-C | C25: 14 | D25: 0.66666667 | E25: ～ | F25: 0.9375 | G25: =(F25-D25)*24 -> 6.5 | H25: 3P | I25: 4 | J25: =G25*I25 -> 26 | L25: ～ | N25: =(M25-K25)*24 -> 0 | Q25: =N25*P25 -> 0 | R25: 観覧席案内※打ち上げ終了後退場案内
A26: 案内誘導員 | B26: 1-C | C26: 8 | D26: 0.58333333 | E26: ～ | F26: 0.9375 | G26: =(F26-D26)*24 -> 8.5 | I26: 1 | J26: =G26*I26 -> 8.5 | L26: ～ | N26: =(M26-K26)*24 -> 0 | Q26: =N26*P26 -> 0 | R26: 1-C本部と現場の連絡・調整
A27: 案内誘導員 | B27: 1-C | C27: 9 | D27: 0.60416667 | E27: ～ | F27: 0.9375 | G27: =(F27-D27)*24 -> 8 | H27: 2P | I27: 3 | J27: =G27*I27 -> 24 | L27: ～ | N27: =(M27-K27)*24 -> 0 | Q27: =N27*P27 -> 0 | R27: Aエリアリストバンドチェック
A28: 案内誘導員 | B28: 1-C | C28: 10 | D28: 0.60416667 | E28: ～ | F28: 0.9375 | G28: =(F28-D28)*24 -> 8 | H28: 2P | I28: 3 | J28: =G28*I28 -> 24 | L28: ～ | N28: =(M28-K28)*24 -> 0 | Q28: =N28*P28 -> 0 | R28: Bエリアリストバンドチェック
A29: 案内誘導員 | B29: 1-C | C29: 11 | D29: 0.60416667 | E29: ～ | F29: 0.9375 | G29: =(F29-D29)*24 -> 8 | H29: 14P | I29: 20 | J29: =G29*I29 -> 160 | L29: ～ | N29: =(M29-K29)*24 -> 0 | Q29: =N29*P29 -> 0 | R29: 観覧席への案内誘導(ビーチS・A・B席)
A30: 案内誘導員 | B30: 1-C | C30: 12 | D30: 0.60416667 | E30: ～ | F30: 0.9375 | G30: =(F30-D30)*24 -> 8 | H30: 2P | I30: 3 | J30: =G30*I30 -> 24 | L30: ～ | N30: =(M30-K30)*24 -> 0 | Q30: =N30*P30 -> 0 | R30: Bエリアリストバンドチェック
A31: 案内誘導員 | B31: 1-C | C31: 13 | D31: 0.60416667 | E31: ～ | F31: 0.9375 | G31: =(F31-D31)*24 -> 8 | H31: 8P | I31: 12 | J31: =G31*I31 -> 96 | L31: ～ | N31: =(M31-K31)*24 -> 0 | Q31: =N31*P31 -> 0 | R31: エリア管理・緊急時IF開放・避難誘導係・終了後のIF開放及び管理
A32: 案内誘導員 | B32: 1-C | C32: 14 | D32: 0.60416667 | E32: ～ | F32: 0.9375 | G32: =(F32-D32)*24 -> 8 | H32: 2P | I32: 3 | J32: =G32*I32 -> 24 | L32: ～ | N32: =(M32-K32)*24 -> 0 | Q32: =N32*P32 -> 0 | R32: 車椅子リストバンドチェック及び第二本部へ観覧者が入らないための注意喚起
A33: 警備隊長 | B33: 第一小隊長 | D33: 0.45833333 | E33: ～ | F33: 0.95833333 | G33: =(F33-D33)*24 -> 12 | I33: 1 | J33: =G33*I33 -> 12 | L33: ～ | N33: =(M33-K33)*24 -> 0 | Q33: =N33*P33 -> 0 | R33: 小隊運用・指揮 本部との連絡・調整
A34: 警備員 | B34: 班長 | D34: 0.45833333 | E34: ～ | F34: 0.95833333 | G34: =(F34-D34)*24 -> 12 | I34: 1 | J34: =G34*I34 -> 12 | L34: ～ | N34: =(M34-K34)*24 -> 0 | Q34: =N34*P34 -> 0 | R34: 1-C警備員管理 遊撃指揮
A35: 警備員 | B35: 遊撃 | D35: 0.58333333 | E35: ～ | F35: 0.95833333 | G35: =(F35-D35)*24 -> 9 | I35: 1 | J35: =G35*I35 -> 9 | L35: ～ | N35: =(M35-K35)*24 -> 0 | Q35: =N35*P35 -> 0 | R35: 事案発生・緊急時対応・巡回
A36: 警備員 | B36: 1-D | C36: 15 | D36: 0.22916667 | E36: ～ | F36: 0.95833333 | G36: =(F36-D36)*24 -> 17.5 | H36: 4P | I36: 7 | J36: =G36*I36 -> 122.5 | L36: ～ | N36: =(M36-K36)*24 -> 0 | Q36: =N36*P36 -> 0 | R36: 立入禁止エリア警戒
A37: 警備員 | B37: 1-D | C37: 15 | D37: 0.29166667 | E37: ～ | F37: 1.25 | G37: =(F37-D37)*24 -> 23 | H37: 2P | I37: 3 | J37: =G37*I37 -> 69 | L37: ～ | N37: =(M37-K37)*24 -> 0 | Q37: =N37*P37 -> 0 | R37: 立入禁止エリア警戒(前日・夜勤：8/2朝6時から8/3朝6時)
A38: 案内誘導員 | B38: 1-D | C38: 15 | D38: 0.58333333 | E38: ～ | F38: 0.9375 | G38: =(F38-D38)*24 -> 8.5 | I38: 1 | J38: =G38*I38 -> 8.5 | L38: ～ | N38: =(M38-K38)*24 -> 0 | Q38: =N38*P38 -> 0 | R38: 1-D本部と現場の連絡・調整
A39: 案内誘導員 | B39: 1-D | C39: 16 | D39: 0.60416667 | E39: ～ | F39: 0.9375 | G39: =(F39-D39)*24 -> 8 | H39: 1P | I39: 2 | J39: =G39*I39 -> 16 | L39: ～ | N39: =(M39-K39)*24 -> 0 | Q39: =N39*P39 -> 0 | R39: 観覧席入口(特別協賛席・Sエリア・車椅子席)※再入場動線
A40: 案内誘導員 | B40: 1-D | C40: 17 | D40: 0.60416667 | E40: ～ | F40: 0.9375 | G40: =(F40-D40)*24 -> 8 | H40: 1P | I40: 2 | J40: =G40*I40 -> 16 | L40: ～ | N40: =(M40-K40)*24 -> 0 | Q40: =N40*P40 -> 0 | R40: 入口案内(特別協賛席・Sエリア・車椅子席)
A41: 案内誘導員 | B41: 1-D | C41: 18 | D41: 0.60416667 | E41: ～ | F41: 0.9375 | G41: =(F41-D41)*24 -> 8 | H41: 3P | I41: 4 | J41: =G41*I41 -> 32 | L41: ～ | N41: =(M41-K41)*24 -> 0 | Q41: =N41*P41 -> 0 | R41: 観覧席入口、観覧席案内(特別協賛席)、Sエリアリストバンドチェック
A42: 警備員 | B42: 班長 | D42: 0.45833333 | E42: ～ | F42: 0.95833333 | G42: =(F42-D42)*24 -> 12 | I42: 1 | J42: =G42*I42 -> 12 | L42: ～ | N42: =(M42-K42)*24 -> 0 | Q42: =N42*P42 -> 0 | R42: 1-D～F警備員管理 遊撃指揮
A43: 警備員 | B43: 遊撃 | D43: 0.58333333 | E43: ～ | F43: 0.95833333 | G43: =(F43-D43)*24 -> 9 | I43: 1 | J43: =G43*I43 -> 9 | L43: ～ | N43: =(M43-K43)*24 -> 0 | Q43: =N43*P43 -> 0 | R43: 事案発生・緊急時対応・巡回
A44: 警備員 | B44: 1-E | C44: 16 | D44: 0.22916667 | E44: ～ | F44: 0.875 | G44: =(F44-D44)*24 -> 15.5 | H44: 2P | I44: 3 | J44: =G44*I44 -> 46.5 | L44: ～ | N44: =(M44-K44)*24 -> 0 | Q44: =N44*P44 -> 0 | R44: 防波堤立入禁止・落水防止
A45: 警備員 | B45: 1-F | C45: 17 | D45: 0.22916667 | E45: ～ | F45: 0.875 | G45: =(F45-D45)*24 -> 15.5 | H45: 1P | I45: 2 | J45: =G45*I45 -> 31 | L45: ～ | N45: =(M45-K45)*24 -> 0 | Q45: =N45*P45 -> 0 | R45: 防波堤立入禁止・落水防止
A46: 案内誘導員 | B46: 2-B | C46: 19 | D46: 0.58333333 | E46: ～ | F46: 0.9375 | G46: =(F46-D46)*24 -> 8.5 | I46: 1 | J46: =G46*I46 -> 8.5 | L46: ～ | N46: =(M46-K46)*24 -> 0 | Q46: =N46*P46 -> 0 | R46: 2-B・3-B本部と現場の連絡・調整
A47: 案内誘導員 | B47: 2-B | C47: 20 | D47: 0.60416667 | E47: ～ | F47: 0.9375 | G47: =(F47-D47)*24 -> 8 | H47: 1P | I47: 2 | J47: =G47*I47 -> 16 | L47: ～ | N47: =(M47-K47)*24 -> 0 | Q47: =N47*P47 -> 0 | R47: 観覧席への誘導案内
A48: 案内誘導員 | B48: 2-B | C48: 21 | D48: 0.60416667 | E48: ～ | F48: 0.9375 | G48: =(F48-D48)*24 -> 8 | H48: 2P | I48: 3 | J48: =G48*I48 -> 24 | L48: ～ | N48: =(M48-K48)*24 -> 0 | Q48: =N48*P48 -> 0 | R48: 湯楽の里への案内誘導
A49: 案内誘導員 | B49: 2-B | C49: 22 | D49: 0.60416667 | E49: ～ | F49: 0.9375 | G49: =(F49-D49)*24 -> 8 | H49: 2P | I49: 3 | J49: =G49*I49 -> 24 | L49: ～ | N49: =(M49-K49)*24 -> 0 | Q49: =N49*P49 -> 0 | R49: 観覧席への案内誘導、シーサイドブリッジ渡し、プラカード所持
A50: 案内誘導員 | B50: 2-B | C50: 23 | D50: 0.60416667 | E50: ～ | F50: 0.9375 | G50: =(F50-D50)*24 -> 8 | H50: 5P | I50: 7 | J50: =G50*I50 -> 56 | L50: ～ | N50: =(M50-K50)*24 -> 0 | Q50: =N50*P50 -> 0 | R50: 乱横断防止対応
A51: 警備員 | B51: 2-B | C51: 18 | D51: 0.58333333 | E51: ～ | F51: 0.9375 | G51: =(F51-D51)*24 -> 8.5 | H51: 3P | I51: 4 | J51: =G51*I51 -> 34 | L51: ～ | N51: =(M51-K51)*24 -> 0 | Q51: =N51*P51 -> 0 | R51: JFAロータリー通行止め
A52: 警備員 | B52: 2-B | C52: 19 | D52: 0.58333333 | E52: ～ | F52: 0.9375 | G52: =(F52-D52)*24 -> 8.5 | H52: 2P | I52: 3 | J52: =G52*I52 -> 25.5 | L52: ～ | N52: =(M52-K52)*24 -> 0 | Q52: =N52*P52 -> 0 | R52: 歩道動線確保、立ち見禁止広報
A53: 警備員 | B53: 2-B | C53: 20 | D53: 0.58333333 | E53: ～ | F53: 0.9375 | G53: =(F53-D53)*24 -> 8.5 | H53: 2P | I53: 3 | J53: =G53*I53 -> 25.5 | L53: ～ | N53: =(M53-K53)*24 -> 0 | Q53: =N53*P53 -> 0 | R53: 立入禁止エリア警戒
A54: 警備員 | B54: 2-B | C54: 21 | D54: 0.66666667 | E54: ～ | F54: 0.9375 | G54: =(F54-D54)*24 -> 6.5 | H54: 6P | I54: 8 | J54: =G54*I54 -> 52 | L54: ～ | N54: =(M54-K54)*24 -> 0 | Q54: =N54*P54 -> 0 | R54: 乱横断禁止・動線上で座り込み排除
A55: 警備員 | B55: 2-B | C55: 22 | D55: 0.66666667 | E55: ～ | F55: 0.9375 | G55: =(F55-D55)*24 -> 6.5 | H55: 3P | I55: 4 | J55: =G55*I55 -> 26 | L55: ～ | N55: =(M55-K55)*24 -> 0 | Q55: =N55*P55 -> 0 | R55: 歩道橋の案内広報(19:00-打上終了まで陸橋閉鎖)
A56: 案内誘導リーダー | B56: JFAｹﾞｰﾄﾘｰﾀﾞｰ | D56: 0.58333333 | E56: ～ | F56: 0.875 | G56: =(F56-D56)*24 -> 7 | I56: 1 | J56: =G56*I56 -> 7 | L56: ～ | N56: =(M56-K56)*24 -> 0 | Q56: =N56*P56 -> 0 | R56: JFAゲートスタッフの運用・管理
A57: 案内誘導員 | B57: JFA入場 ｹﾞｰﾄ(D・E・F) | C57: 71 | D57: 0.58333333 | E57: ～ | F57: 0.875 | G57: =(F57-D57)*24 -> 7 | H57: 16P | I57: 24 | J57: =G57*I57 -> 168 | L57: ～ | N57: =(M57-K57)*24 -> 0 | Q57: =N57*P57 -> 0 | R57: チケット・はがき確認・配布物対応・来場者対応/インフォメーション対応2名
A58: 案内誘導リーダー | B58: ｹﾞｰﾄﾘｰﾀﾞｰ (D・E・F) | D58: 0.58333333 | E58: ～ | F58: 0.875 | G58: =(F58-D58)*24 -> 7 | I58: 1 | J58: =G58*I58 -> 7 | L58: ～ | N58: =(M58-K58)*24 -> 0 | Q58: =N58*P58 -> 0 | R58: ゲート(Ｄ・Ｅ・Ｆ)スタッフの運用・管理
A59: 案内誘導員 | B59: JFA入場 ｹﾞｰﾄ(I) | C59: 76 | D59: 0.58333333 | E59: ～ | F59: 0.875 | G59: =(F59-D59)*24 -> 7 | H59: 10P | I59: 14 | J59: =G59*I59 -> 98 | L59: ～ | N59: =(M59-K59)*24 -> 0 | Q59: =N59*P59 -> 0 | R59: チケット・はがき確認・配布物対応・来場者対応/インフォメーション対応2名
A60: 案内誘導リーダー | B60: ｹﾞｰﾄﾘｰﾀﾞｰ (I) | D60: 0.58333333 | E60: ～ | F60: 0.875 | G60: =(F60-D60)*24 -> 7 | I60: 1 | J60: =G60*I60 -> 7 | L60: ～ | N60: =(M60-K60)*24 -> 0 | Q60: =N60*P60 -> 0 | R60: ゲート(I)スタッフの運用・管理
A61: 案内誘導員 | B61: JFA入場 ｹﾞｰﾄ(C) | C61: 72 | D61: 0.58333333 | E61: ～ | F61: 0.875 | G61: =(F61-D61)*24 -> 7 | H61: 10P | I61: 14 | J61: =G61*I61 -> 98 | L61: ～ | N61: =(M61-K61)*24 -> 0 | Q61: =N61*P61 -> 0 | R61: チケット・はがき確認・配布物対応・来場者対応
A62: 案内誘導リーダー | B62: ｹﾞｰﾄﾘｰﾀﾞｰ (C) | D62: 0.58333333 | E62: ～ | F62: 0.875 | G62: =(F62-D62)*24 -> 7 | I62: 1 | J62: =G62*I62 -> 7 | L62: ～ | N62: =(M62-K62)*24 -> 0 | Q62: =N62*P62 -> 0 | R62: ゲート(C)スタッフの運用・管理
A63: 警備員 | B63: JFA入場ｹﾞｰﾄ(D.E.F) | C63: 116 | D63: 0.58333333 | E63: ～ | F63: 0.875 | G63: =(F63-D63)*24 -> 7 | H63: 4P | I63: 6 | J63: =G63*I63 -> 42 | L63: ～ | N63: =(M63-K63)*24 -> 0 | Q63: =N63*P63 -> 0 | R63: 手荷物検査
A64: 警備員 | B64: JFA入場 ｹﾞｰﾄ(C) | C64: 117 | D64: 0.58333333 | E64: ～ | F64: 0.875 | G64: =(F64-D64)*24 -> 7 | H64: 3P | I64: 4 | J64: =G64*I64 -> 28 | L64: ～ | N64: =(M64-K64)*24 -> 0 | Q64: =N64*P64 -> 0 | R64: 手荷物検査
A65: 警備員 | B65: JFA入場ｹﾞｰﾄ(I) | C65: 120 | D65: 0.58333333 | E65: ～ | F65: 0.875 | G65: =(F65-D65)*24 -> 7 | H65: 3P | I65: 4 | J65: =G65*I65 -> 28 | L65: ～ | N65: =(M65-K65)*24 -> 0 | Q65: =N65*P65 -> 0 | R65: 手荷物検査
A66: 警備員 | B66: JFA入場ｹﾞｰﾄ ﾘｰﾀﾞｰ | D66: 0.54166667 | F66: 0.875 | G66: =(F66-D66)*24 -> 8 | I66: 1 | J66: =G66*I66 -> 8 | N66: =(M66-K66)*24 -> 0 | Q66: =N66*P66 -> 0 | R66: JFA入場ゲート警備員管理
A67: 警備員 | B67: 班長 | D67: 0.58333333 | E67: ～ | F67: 0.95833333 | G67: =(F67-D67)*24 -> 9 | I67: 1 | J67: =G67*I67 -> 9 | L67: ～ | N67: =(M67-K67)*24 -> 0 | Q67: =N67*P67 -> 0 | R67: 2-B警備員管理 遊撃指揮
A68: 警備員 | B68: 遊撃 | D68: 0.58333333 | E68: ～ | F68: 0.95833333 | G68: =(F68-D68)*24 -> 9 | I68: 1 | J68: =G68*I68 -> 9 | L68: ～ | N68: =(M68-K68)*24 -> 0 | Q68: =N68*P68 -> 0 | R68: 事案発生・緊急時対応・巡回
A69: 警備員 | B69: 2-C | C69: 23 | D69: 0.29166667 | E69: ～ | F69: 0.89583333 | G69: =(F69-D69)*24 -> 14.5 | H69: 12P | I69: 18 | J69: =G69*I69 -> 261 | L69: ～ | N69: =(M69-K69)*24 -> 0 | Q69: =N69*P69 -> 0 | R69: 観覧者以外の立入禁止対応・歩道橋の案内誘導(19:00-打上終了まで陸橋閉鎖)・自転車案内
A70: 警備員 | B70: 2-C | C70: 24 | D70: 0.625 | E70: ～ | F70: 0.875 | G70: =(F70-D70)*24 -> 6 | H70: 4P | I70: 6 | J70: =G70*I70 -> 36 | L70: ～ | N70: =(M70-K70)*24 -> 0 | Q70: =N70*P70 -> 0 | R70: 観覧者以外の立入禁止対応・交差点の交通整理
A71: 警備員 | B71: 2-C | C71: 25 | D71: 0.29166667 | E71: ～ | F71: 0.89583333 | G71: =(F71-D71)*24 -> 14.5 | H71: 2P | I71: 3 | J71: =G71*I71 -> 43.5 | L71: ～ | N71: =(M71-K71)*24 -> 0 | Q71: =N71*P71 -> 0 | R71: 観覧者以外の立入禁止対応
A72: 警備員 | B72: 2-C | C72: 26 | D72: 0.29166667 | E72: ～ | F72: 0.89583333 | G72: =(F72-D72)*24 -> 14.5 | H72: 2P | I72: 3 | J72: =G72*I72 -> 43.5 | L72: ～ | N72: =(M72-K72)*24 -> 0 | Q72: =N72*P72 -> 0 | R72: 車輛侵入防止
A73: 警備員 | B73: 2-C | C73: 27 | D73: 0.29166667 | E73: ～ | F73: 0.89583333 | G73: =(F73-D73)*24 -> 14.5 | H73: 4P | I73: 6 | J73: =G73*I73 -> 87 | L73: ～ | N73: =(M73-K73)*24 -> 0 | Q73: =N73*P73 -> 0 | R73: 見浜園交差点交通整備(大和リース駐車券は通行可)
A74: 警備員 | B74: 2-C | C74: 28 | D74: 0.64583333 | E74: ～ | F74: 0.875 | G74: =(F74-D74)*24 -> 5.5 | H74: 4P | I74: 6 | J74: =G74*I74 -> 33 | L74: ～ | N74: =(M74-K74)*24 -> 0 | Q74: =N74*P74 -> 0 | R74: 歩道動線確保、立ち見禁止広報(19:00-打上終了まで陸橋閉鎖)
A75: 警備員 | B75: 2-C | C75: 29 | D75: 0.58333333 | E75: ～ | F75: 0.9375 | G75: =(F75-D75)*24 -> 8.5 | H75: 5P | I75: 7 | J75: =G75*I75 -> 59.5 | L75: ～ | N75: =(M75-K75)*24 -> 0 | Q75: =N75*P75 -> 0 | R75: 見浜園交差点乱横断禁止、駐停車防止
A76: 警備員 | B76: 2-C | C76: 30 | D76: 0.58333333 | E76: ～ | F76: 0.9375 | G76: =(F76-D76)*24 -> 8.5 | H76: 2P | I76: 3 | J76: =G76*I76 -> 25.5 | L76: ～ | N76: =(M76-K76)*24 -> 0 | Q76: =N76*P76 -> 0 | R76: 見浜園交差点横断歩道誘導
A77: 警備員 | B77: 2-C | C77: 31 | D77: 0.58333333 | E77: ～ | F77: 0.9375 | G77: =(F77-D77)*24 -> 8.5 | H77: 3P | I77: 4 | J77: =G77*I77 -> 34 | L77: ～ | N77: =(M77-K77)*24 -> 0 | Q77: =N77*P77 -> 0 | R77: 立入禁止エリア警戒(JAF側)
A78: 案内誘導員 | B78: 2-C | C78: 24 | D78: 0.5625 | E78: ～ | F78: 0.9375 | G78: =(F78-D78)*24 -> 9 | I78: 2 | J78: =G78*I78 -> 18 | L78: ～ | N78: =(M78-K78)*24 -> 0 | Q78: =N78*P78 -> 0 | R78: 2-C本部と現場の連絡・調整
A79: 案内誘導員 | B79: 2-C | C79: 25 | D79: 0.58333333 | E79: ～ | F79: 0.875 | G79: =(F79-D79)*24 -> 7 | H79: 2P | I79: 3 | J79: =G79*I79 -> 21 | L79: ～ | N79: =(M79-K79)*24 -> 0 | Q79: =N79*P79 -> 0 | R79: 入場ゲート後から観覧席への案内誘導及び・再入場口/観覧席入口
A80: 案内誘導員 | B80: 2-C | C80: 26 | D80: 0.58333333 | E80: ～ | F80: 0.875 | G80: =(F80-D80)*24 -> 7 | H80: 1P | I80: 2 | J80: =G80*I80 -> 14 | L80: ～ | N80: =(M80-K80)*24 -> 0 | Q80: =N80*P80 -> 0 | R80: 入場ゲートへの案内誘導
A81: 案内誘導員 | B81: 2-C | C81: 27 | D81: 0.58333333 | E81: ～ | F81: 0.875 | G81: =(F81-D81)*24 -> 7 | H81: 3P | I81: 4 | J81: =G81*I81 -> 28 | L81: ～ | N81: =(M81-K81)*24 -> 0 | Q81: =N81*P81 -> 0 | R81: 防風林から観覧席入口までの誘導
A82: 案内誘導員 | B82: 2-C | C82: 28 | D82: 0.58333333 | E82: ～ | F82: 0.875 | G82: =(F82-D82)*24 -> 7 | H82: 10P | I82: 14 | J82: =G82*I82 -> 98 | L82: ～ | N82: =(M82-K82)*24 -> 0 | Q82: =N82*P82 -> 0 | R82: 待機列整理及び最後尾へ案内
A83: 案内誘導員 | B83: 2-C | C83: 29 | D83: 0.58333333 | E83: ～ | F83: 0.875 | G83: =(F83-D83)*24 -> 7 | H83: 3P | I83: 4 | J83: =G83*I83 -> 28 | L83: ～ | N83: =(M83-K83)*24 -> 0 | Q83: =N83*P83 -> 0 | R83: 待機列から受付レーンへの案内
A84: 案内誘導員 | B84: 2-C | C84: 30 | D84: 0.58333333 | E84: ～ | F84: 0.875 | G84: =(F84-D84)*24 -> 7 | H84: 2P | I84: 3 | J84: =G84*I84 -> 21 | L84: ～ | N84: =(M84-K84)*24 -> 0 | Q84: =N84*P84 -> 0 | R84: 当日券列整理
A85: 案内誘導員 | B85: 2-C | C85: 31 | D85: 0.58333333 | E85: ～ | F85: 0.9375 | G85: =(F85-D85)*24 -> 8.5 | H85: 1P | I85: 2 | J85: =G85*I85 -> 17 | L85: ～ | N85: =(M85-K85)*24 -> 0 | Q85: =N85*P85 -> 0 | R85: 観覧席への案内広報
A86: 案内誘導員 | B86: 2-C | C86: 32 | D86: 0.58333333 | E86: ～ | F86: 0.9375 | G86: =(F86-D86)*24 -> 8.5 | H86: 2P | I86: 3 | J86: =G86*I86 -> 25.5 | L86: ～ | N86: =(M86-K86)*24 -> 0 | Q86: =N86*P86 -> 0 | R86: 見浜園交差点誘導案内
A87: 案内誘導員 | B87: 2-C | C87: 33 | D87: 0.58333333 | E87: ～ | F87: 0.9375 | G87: =(F87-D87)*24 -> 8.5 | H87: 4P | I87: 6 | J87: =G87*I87 -> 51 | L87: ～ | N87: =(M87-K87)*24 -> 0 | Q87: =N87*P87 -> 0 | R87: 乱横断防止対応
A88: 警備員 | B88: ﾒｲﾝ入場ｹﾞｰﾄ(A.B) | C88: 118 | D88: 0.58333333 | F88: 0.875 | G88: =(F88-D88)*24 -> 7 | H88: 12P | I88: 16 | J88: =G88*I88 -> 112 | N88: =(M88-K88)*24 -> 0 | Q88: =N88*P88 -> 0 | R88: 手荷物検査
A89: 警備員 | B89: ﾒｲﾝ入場ｹﾞｰﾄﾘｰﾀﾞｰ | D89: 0.33333333 | E89: ～ | F89: 0.875 | G89: =(F89-D89)*24 -> 13 | I89: 1 | J89: =G89*I89 -> 13 | L89: ～ | N89: =(M89-K89)*24 -> 0 | Q89: =N89*P89 -> 0 | R89: メイン入場ゲート警備員管理
A90: 案内誘導員 | B90: ﾒｲﾝ入場 ｹﾞｰﾄ(A・B) | C90: 73 | D90: 0.58333333 | E90: ～ | F90: 0.875 | G90: =(F90-D90)*24 -> 7 | H90: 44P | I90: 58 | J90: =G90*I90 -> 406 | L90: ～ | N90: =(M90-K90)*24 -> 0 | Q90: =N90*P90 -> 0 | R90: チケット・はがき確認・配布物対応・来場者対応/インフォメーション対応2名
A91: 案内誘導リーダー | B91: ｹﾞｰﾄﾘｰﾀﾞｰ (A・B) | D91: 0.58333333 | E91: ～ | F91: 0.875 | G91: =(F91-D91)*24 -> 7 | I91: 2 | J91: =G91*I91 -> 14 | L91: ～ | N91: =(M91-K91)*24 -> 0 | Q91: =N91*P91 -> 0 | R91: ゲート(A・B)スタッフの運用・管理
A92: 警備隊長 | B92: 第2小隊長 | D92: 0.58333333 | E92: ～ | F92: 0.95833333 | G92: =(F92-D92)*24 -> 9 | I92: 1 | J92: =G92*I92 -> 9 | L92: ～ | N92: =(M92-K92)*24 -> 0 | Q92: =N92*P92 -> 0 | R92: 小隊運用・指揮 本部との連絡・調整
A93: 警備員 | B93: 班長 | D93: 0.58333333 | E93: ～ | F93: 0.95833333 | G93: =(F93-D93)*24 -> 9 | I93: 2 | J93: =G93*I93 -> 18 | L93: ～ | N93: =(M93-K93)*24 -> 0 | Q93: =N93*P93 -> 0 | R93: 2-C警備員管理 遊撃指揮
A94: 警備員 | B94: 遊撃 | D94: 0.58333333 | E94: ～ | F94: 0.95833333 | G94: =(F94-D94)*24 -> 9 | I94: 3 | J94: =G94*I94 -> 27 | L94: ～ | N94: =(M94-K94)*24 -> 0 | Q94: =N94*P94 -> 0 | R94: 事案発生・緊急時対応・巡回
A95: 警備員 | B95: 2-D | C95: 32 | D95: 0.29166667 | E95: ～ | F95: 0.875 | G95: =(F95-D95)*24 -> 14 | H95: 2P | I95: 3 | J95: =G95*I95 -> 42 | L95: ～ | N95: =(M95-K95)*24 -> 0 | Q95: =N95*P95 -> 0 | R95: マリンスタジアム入口案内誘導広報(チケット有無の広報、案内）
A96: 警備員 | B96: 2-D | C96: 33 | D96: 0.29166667 | E96: ～ | F96: 0.875 | G96: =(F96-D96)*24 -> 14 | H96: 3P | I96: 5 | J96: =G96*I96 -> 70 | L96: ～ | N96: =(M96-K96)*24 -> 0 | Q96: =N96*P96 -> 0 | R96: ZOZOマリンスタジアム関係者駐車場出入口管理
A97: 警備員 | B97: 2-D | C97: 34 | D97: 0.29166667 | E97: ～ | F97: 0.875 | G97: =(F97-D97)*24 -> 14 | H97: 1P | I97: 2 | J97: =G97*I97 -> 28 | L97: ～ | N97: =(M97-K97)*24 -> 0 | Q97: =N97*P97 -> 0 | R97: 立入禁止エリアへの進入禁止(南)
A98: 警備員 | B98: 2-D | C98: 35 | D98: 0.64583333 | E98: ～ | F98: 0.875 | G98: =(F98-D98)*24 -> 5.5 | H98: 1P | I98: 2 | J98: =G98*I98 -> 11 | L98: ～ | N98: =(M98-K98)*24 -> 0 | Q98: =N98*P98 -> 0 | R98: 立入禁止エリアへの進入禁止(北)
A99: 警備員 | B99: 2-D | C99: 36 | D99: 0.58333333 | E99: ～ | F99: 0.9375 | G99: =(F99-D99)*24 -> 8.5 | H99: 4P | I99: 6 | J99: =G99*I99 -> 51 | L99: ～ | N99: =(M99-K99)*24 -> 0 | Q99: =N99*P99 -> 0 | R99: 歩道動線確保、立ち見禁止広報
A100: 案内誘導員 | B100: 2-D | C100: 34 | D100: 0.52083333 | E100: ～ | F100: 0.875 | G100: =(F100-D100)*24 -> 8.5 | I100: 1 | J100: =G100*I100 -> 8.5 | L100: ～ | N100: =(M100-K100)*24 -> 0 | Q100: =N100*P100 -> 0 | R100: 2-D本部と現場の連絡・調整
...

Sheet 別紙３
A1: （様式９別紙3）【参考】Ｒ7年花火大会で使用した音響機材（規格・数量） | F1: 別紙３
B3: 品目 | C3: 数量 | D3: メーカー | E3: 機種 | F3: スペック
A4: ステージ | B4: メインスピーカー | C4: 4 | D4: EV | E4: ZX5 | F4: 500w
B5: モニタースピーカー | C5: 2 | D5: EV | E5: SX300 | F5: 300w
B6: アンプ | C6: 3 | D6: YAMAHA | E6: PX10 | F6: 1kw/ch
B7: 調整卓 | C7: 1 | D7: YAMAHA | E7: EMX5016 | F7: 16ch
B8: トランペットスピーカー | C8: 2 | D8: TOA | E8: TH50 | F8: 50ｗ
B9: ワイヤレスマイク | C9: 5 | D9: SHURE | E9: QLX
B10: LED投光器他 | C10: 4 | D10: DENSEN | E10: LD15000 | F10: 15000lm
A11: 観覧席 | B11: トランペットスピーカー | C11: 106 | D11: TOA | E11: TH50 | F11: 30w
B12: アンプ | C12: 6 | D12: YAMAHA | E12: PC3301N | F12: 330w/ch
A13: 打ち上げ本部 | B13: 来賓用スピーカー | C13: 4 | D13: EV | E13: SX300 | F13: 300w
B14: アンプ | C14: 1 | D14: YAMAHA | E14: PX5 | F14: 600w/ch
B15: 調整卓 | C15: 2 | D15: BEHRINGER | E15: XR18 | F15: 16ch
B16: CDプレイヤー | C16: 1 | D16: TASCAM | E16: MDCD1
B17: PC | C17: 1 | D17: DELL
B18: headphoneSystem | C18: 1式 | D18: SONY
